View In:
ArcGIS JavaScript
ArcGIS Online Map Viewer
ArcGIS Earth
ArcMap
View Footprint In:
ArcGIS Online Map Viewer
Service Description: NHP/Vertebrate_Animal_Biodiversity
Name: NHP/Vertebrate_Animal_Biodiversity
Description:
Single Fused Map Cache: false
Extent:
XMin: 103450.98067646346
YMin: 11771.012471508933
XMax: 1041340.9806764635
YMax: 556001.0124715089
Spatial Reference: 32100
(32100)
LatestVCSWkid(0)
Initial Extent:
XMin: 103450.98067646346
YMin: 11771.012471508933
XMax: 1041340.9806764635
YMax: 556001.0124715089
Spatial Reference: 32100
(32100)
LatestVCSWkid(0)
Full Extent:
XMin: 103450.98067646346
YMin: 11771.012471508933
XMax: 1041340.9806764635
YMax: 556001.0124715089
Spatial Reference: 32100
(32100)
LatestVCSWkid(0)
Pixel Size X: 90.0
Pixel Size Y: 90.0
Band Count: 1
Pixel Type: U4
RasterFunction Infos: {"rasterFunctionInfos": [{
"name": "None",
"description": "",
"help": ""
}]}
Mensuration Capabilities: Basic
Has Histograms: true
Has Colormap: true
Has Multi Dimensions : false
Rendering Rule:
Min Scale: 0
Max Scale: 0
Copyright Text:
Service Data Type: esriImageServiceDataTypeThematic
Min Values: 1
Max Values: 10
Mean Values: 5.48074326681613
Standard Deviation Values: 2.881353096183729
Object ID Field:
Fields:
None
Default Mosaic Method: Center
Allowed Mosaic Methods:
SortField:
SortValue: null
Mosaic Operator: First
Default Compression Quality: 75
Default Resampling Method: Bilinear
Max Record Count: null
Max Image Height: 4100
Max Image Width: 15000
Max Download Image Count: null
Max Mosaic Image Count: null
Allow Raster Function: true
Allow Copy: true
Allow Analysis: true
Allow Compute TiePoints: false
Supports Statistics: false
Supports Advanced Queries: false
Use StandardizedQueries: true
Raster Type Infos:
Name: Raster Dataset
Description: Supports all ArcGIS Raster Datasets
Help:
Has Raster Attribute Table: false
Edit Fields Info: null
Ownership Based AccessControl For Rasters: null
Child Resources:
Info
Histograms
Statistics
Key Properties
Color Map
Legend
Raster Function Infos
Supported Operations:
Export Image
Identify
Measure
Compute Histograms
Compute Statistics Histograms
Get Samples
Compute Class Statistics
Query Boundary
Compute Pixel Location
Compute Angles
Validate
Project