{
 "currentVersion": 10.91,
 "serviceDescription": "NHP/nonNative_Fish_Biodiversity",
 "name": "NHP/nonNative_Fish_Biodiversity",
 "description": "",
 "extent": {
  "xmin": 103450.98067646346,
  "ymin": 11771.012471508933,
  "xmax": 1041340.9806764635,
  "ymax": 556001.0124715089,
  "spatialReference": {
   "wkid": 32100,
   "latestWkid": 32100
  }
 },
 "initialExtent": {
  "xmin": 103450.98067646346,
  "ymin": 11771.012471508933,
  "xmax": 1041340.9806764635,
  "ymax": 556001.0124715089,
  "spatialReference": {
   "wkid": 32100,
   "latestWkid": 32100
  }
 },
 "fullExtent": {
  "xmin": 103450.98067646346,
  "ymin": 11771.012471508933,
  "xmax": 1041340.9806764635,
  "ymax": 556001.0124715089,
  "spatialReference": {
   "wkid": 32100,
   "latestWkid": 32100
  }
 },
 "hasMultidimensions": false,
 "pixelSizeX": 90,
 "pixelSizeY": 90,
 "datasetFormat": "FGDBR",
 "uncompressedSize": 31507894,
 "blockWidth": 128,
 "blockHeight": 128,
 "compressionType": "LZ77",
 "bandNames": [
  "Band_1"
 ],
 "allowCopy": true,
 "allowAnalysis": true,
 "bandCount": 1,
 "pixelType": "U4",
 "minPixelSize": 0,
 "maxPixelSize": 0,
 "copyrightText": "",
 "serviceDataType": "esriImageServiceDataTypeThematic",
 "serviceSourceType": "esriImageServiceSourceTypeDataset",
 "minValues": [
  1
 ],
 "maxValues": [
  10
 ],
 "meanValues": [
  4.837788406944978
 ],
 "stdvValues": [
  3.229645307573677
 ],
 "objectIdField": "",
 "fields": [],
 "capabilities": "Mensuration,Image,Metadata",
 "defaultMosaicMethod": "Center",
 "allowedMosaicMethods": "",
 "sortField": "",
 "sortValue": null,
 "sortAscending": true,
 "mosaicOperator": "First",
 "defaultCompressionQuality": 75,
 "defaultResamplingMethod": "Bilinear",
 "maxImageHeight": 4100,
 "maxImageWidth": 15000,
 "allowRasterFunction": true,
 "rasterFunctionInfos": [
  {
   "name": "None",
   "description": "",
   "help": ""
  }
 ],
 "rasterTypeInfos": [
  {
   "name": "Raster Dataset",
   "description": "Supports all ArcGIS Raster Datasets",
   "help": ""
  }
 ],
 "mensurationCapabilities": "Basic",
 "hasHistograms": true,
 "hasColormap": true,
 "hasRasterAttributeTable": true,
 "minScale": 0,
 "maxScale": 0,
 "exportTilesAllowed": false,
 "supportsStatistics": false,
 "supportsAdvancedQueries": false,
 "editFieldsInfo": null,
 "ownershipBasedAccessControlForRasters": null,
 "allowComputeTiePoints": false,
 "useStandardizedQueries": true,
 "advancedQueryCapabilities": {
  "useStandardizedQueries": true,
  "supportsStatistics": false,
  "supportsOrderBy": false,
  "supportsDistinct": false,
  "supportsPagination": false
 },
 "spatialReference": {
  "wkid": 32100,
  "latestWkid": 32100
 }
}
