{
 "currentVersion": 10.91,
 "cimVersion": "2.9.0",
 "serviceDescription": "This service was created as a base map for the mtplacenames.org web application. This service may be discontinued (or secured - controlled by password) at any time, please do not use this service in other production applications.",
 "mapName": "Layers",
 "description": "",
 "copyrightText": "Montana State Library",
 "supportsDynamicLayers": false,
 "layers": [
  {
   "id": 0,
   "name": "mtMaskSP",
   "parentLayerId": -1,
   "defaultVisibility": false,
   "subLayerIds": null,
   "minScale": 0,
   "maxScale": 0,
   "type": "Feature Layer",
   "geometryType": "esriGeometryPolygon",
   "supportsDynamicLegends": true
  },
  {
   "id": 1,
   "name": "MontanaHighwayMap.tif",
   "parentLayerId": -1,
   "defaultVisibility": true,
   "subLayerIds": null,
   "minScale": 0,
   "maxScale": 100000,
   "type": "Raster Layer",
   "supportsDynamicLegends": true
  },
  {
   "id": 2,
   "name": "Historic_100K_Topo_Maps_SP",
   "parentLayerId": -1,
   "defaultVisibility": true,
   "subLayerIds": [
    3,
    4,
    5
   ],
   "minScale": 100000,
   "maxScale": 24000,
   "type": "Mosaic Layer",
   "supportsDynamicLegends": false
  },
  {
   "id": 3,
   "name": "Boundary",
   "parentLayerId": 2,
   "defaultVisibility": false,
   "subLayerIds": null,
   "minScale": 0,
   "maxScale": 0,
   "type": "Feature Layer",
   "geometryType": "esriGeometryPolygon",
   "supportsDynamicLegends": true
  },
  {
   "id": 4,
   "name": "Footprint",
   "parentLayerId": 2,
   "defaultVisibility": false,
   "subLayerIds": null,
   "minScale": 0,
   "maxScale": 0,
   "type": "Feature Layer",
   "geometryType": "esriGeometryPolygon",
   "supportsDynamicLegends": true
  },
  {
   "id": 5,
   "name": "Image",
   "parentLayerId": 2,
   "defaultVisibility": true,
   "subLayerIds": null,
   "minScale": 0,
   "maxScale": 0,
   "type": "Raster Layer",
   "supportsDynamicLegends": true
  },
  {
   "id": 6,
   "name": "Historic_24K_Topo_Maps_SP",
   "parentLayerId": -1,
   "defaultVisibility": true,
   "subLayerIds": [
    7,
    8,
    9
   ],
   "minScale": 24000,
   "maxScale": 0,
   "type": "Mosaic Layer",
   "supportsDynamicLegends": false
  },
  {
   "id": 7,
   "name": "Boundary",
   "parentLayerId": 6,
   "defaultVisibility": false,
   "subLayerIds": null,
   "minScale": 0,
   "maxScale": 0,
   "type": "Feature Layer",
   "geometryType": "esriGeometryPolygon",
   "supportsDynamicLegends": true
  },
  {
   "id": 8,
   "name": "Footprint",
   "parentLayerId": 6,
   "defaultVisibility": false,
   "subLayerIds": null,
   "minScale": 0,
   "maxScale": 0,
   "type": "Feature Layer",
   "geometryType": "esriGeometryPolygon",
   "supportsDynamicLegends": true
  },
  {
   "id": 9,
   "name": "Image",
   "parentLayerId": 6,
   "defaultVisibility": true,
   "subLayerIds": null,
   "minScale": 0,
   "maxScale": 0,
   "type": "Raster Layer",
   "supportsDynamicLegends": true
  }
 ],
 "tables": [],
 "spatialReference": {
  "wkid": 32100,
  "latestWkid": 32100,
  "xyTolerance": 0.001,
  "zTolerance": 0.001,
  "mTolerance": 0.001,
  "falseX": -35666000,
  "falseY": -30006900,
  "xyUnits": 1.2418241954917815E8,
  "falseZ": -100000,
  "zUnits": 10000,
  "falseM": -100000,
  "mUnits": 10000
 },
 "singleFusedMapCache": true,
 "tileInfo": {
  "rows": 256,
  "cols": 256,
  "dpi": 96,
  "format": "JPEG",
  "compressionQuality": 75,
  "origin": {
   "x": 96120,
   "y": 572000
  },
  "spatialReference": {
   "wkid": 32100,
   "latestWkid": 32100,
   "xyTolerance": 0.001,
   "zTolerance": 0.001,
   "mTolerance": 0.001,
   "falseX": -35666000,
   "falseY": -30006900,
   "xyUnits": 1.2418241954917815E8,
   "falseZ": -100000,
   "zUnits": 10000,
   "falseM": -100000,
   "mUnits": 10000
  },
  "lods": [
   {
    "level": 0,
    "resolution": 1455.211243755821,
    "scale": 5500000
   },
   {
    "level": 1,
    "resolution": 1222.9925001058336,
    "scale": 4622324.614
   },
   {
    "level": 2,
    "resolution": 611.4962500529168,
    "scale": 2311162.307
   },
   {
    "level": 3,
    "resolution": 305.74812489416644,
    "scale": 1155581.153
   },
   {
    "level": 4,
    "resolution": 152.8740625,
    "scale": 577790.5767
   },
   {
    "level": 5,
    "resolution": 76.4370312632292,
    "scale": 288895.2884
   },
   {
    "level": 6,
    "resolution": 38.2185156316146,
    "scale": 144447.6442
   },
   {
    "level": 7,
    "resolution": 19.10925781316146,
    "scale": 72223.82209
   },
   {
    "level": 8,
    "resolution": 9.554628905257811,
    "scale": 36111.91104
   },
   {
    "level": 9,
    "resolution": 4.7773144526289055,
    "scale": 18055.95552
   },
   {
    "level": 10,
    "resolution": 2.3886572265790367,
    "scale": 9027.977761
   },
   {
    "level": 11,
    "resolution": 1.1943286131572264,
    "scale": 4513.98888
   }
  ]
 },
 "storageInfo": {
  "storageFormat": "esriMapCacheStorageModeCompactV2",
  "packetSize": 128
 },
 "initialExtent": {
  "xmin": -199363.97118039755,
  "ymin": 288083.0683413217,
  "xmax": 1329105.0384803186,
  "ymax": 741300.744837733,
  "spatialReference": {
   "wkid": 32100,
   "latestWkid": 32100,
   "xyTolerance": 0.001,
   "zTolerance": 0.001,
   "mTolerance": 0.001,
   "falseX": -35666000,
   "falseY": -30006900,
   "xyUnits": 1.2418241954917815E8,
   "falseZ": -100000,
   "zUnits": 10000,
   "falseM": -100000,
   "mUnits": 10000
  }
 },
 "fullExtent": {
  "xmin": -2954094.8376,
  "ymin": -2706277.1719999984,
  "xmax": 4454253.3124,
  "ymax": 3193942.9618000016,
  "spatialReference": {
   "wkid": 32100,
   "latestWkid": 32100,
   "xyTolerance": 0.001,
   "zTolerance": 0.001,
   "mTolerance": 0.001,
   "falseX": -35666000,
   "falseY": -30006900,
   "xyUnits": 1.2418241954917815E8,
   "falseZ": -100000,
   "zUnits": 10000,
   "falseM": -100000,
   "mUnits": 10000
  }
 },
 "datesInUnknownTimezone": false,
 "minScale": 7.3957190948944E7,
 "maxScale": 4513.988705,
 "units": "esriMeters",
 "supportedImageFormatTypes": "PNG32,PNG24,PNG,JPG,DIB,TIFF,EMF,PS,PDF,GIF,SVG,SVGZ,BMP",
 "documentInfo": {
  "Title": "",
  "Author": "",
  "Comments": "",
  "Subject": "",
  "Category": "",
  "AntialiasingMode": "None",
  "TextAntialiasingMode": "Force",
  "Version": "10.1",
  "Keywords": "Montana"
 },
 "supportsQueryDomains": true,
 "capabilities": "Map,Query,Data",
 "supportedQueryFormats": "JSON, geoJSON, PBF",
 "exportTilesAllowed": false,
 "referenceScale": 0.0,
 "supportsDatumTransformation": true,
 "archivingInfo": {
  "supportsHistoricMoment": false
 },
 "supportsClipping": true,
 "supportsSpatialFilter": true,
 "supportsTimeRelation": true,
 "supportsQueryDataElements": true,
 "maxRecordCount": 1000,
 "maxImageHeight": 4096,
 "maxImageWidth": 4096,
 "supportedExtensions": "",
 "resampling": false
}
